BEGIN:VCALENDAR
VERSION:2.0
PRODID:-//pretix//pretix.eu//
BEGIN:VTIMEZONE
TZID:Europe/Berlin
BEGIN:STANDARD
DTSTART:20001029T040000
RRULE:FREQ=YEARLY;BYDAY=-1SU;BYMONTH=10
TZNAME:CET
TZOFFSETFROM:+0200
TZOFFSETTO:+0100
END:STANDARD
BEGIN:DAYLIGHT
DTSTART:20000326T030000
RRULE:FREQ=YEARLY;BYDAY=-1SU;BYMONTH=3
TZNAME:CEST
TZOFFSETFROM:+0100
TZOFFSETTO:+0200
END:DAYLIGHT
END:VTIMEZONE
BEGIN:VEVENT
UID:pretix-piano-schulz-Patrick-Kutscha-0@tickets.piano-schulz.de
DTSTART;TZID=Europe/Berlin:20260613T193000
DTEND;TZID=Europe/Berlin:20260613T220000
DESCRIPTION:Tickets: https://tickets.piano-schulz.de/Patrick-Kutscha/\nVera
 nstalter: Piano-Schulz e.K.
DTSTAMP:20260421T101142Z
LOCATION:Piano-Schulz e.K.\, Mühlgasse 11-13\, 65183 Wiesbaden
SUMMARY:Klänge zum Sonnenuntergang - Open Air Konzert mit Patrick Kutscha
END:VEVENT
END:VCALENDAR
