BEGIN:VCALENDAR
VERSION:2.0
PRODID:-//pretix//pretix.eu//
BEGIN:VTIMEZONE
TZID:Europe/Berlin
BEGIN:STANDARD
DTSTART:20001029T040000
RRULE:FREQ=YEARLY;BYDAY=-1SU;BYMONTH=10
TZNAME:CET
TZOFFSETFROM:+0200
TZOFFSETTO:+0100
END:STANDARD
BEGIN:DAYLIGHT
DTSTART:20000326T030000
RRULE:FREQ=YEARLY;BYDAY=-1SU;BYMONTH=3
TZNAME:CEST
TZOFFSETFROM:+0100
TZOFFSETTO:+0200
END:DAYLIGHT
END:VTIMEZONE
BEGIN:VEVENT
UID:pretix-piano-schulz-world-piano-day-0@tickets.piano-schulz.de
DTSTART;TZID=Europe/Berlin:20260329T170000
DTEND;TZID=Europe/Berlin:20260329T180000
DESCRIPTION:Tickets: https://tickets.piano-schulz.de/world-piano-day/\nOrga
 nizer: Piano-Schulz e.K.
DTSTAMP:20260421T085613Z
LOCATION:Piano-Schulz\, Mühlgasse 11-13\, 65183 Wiesbaden
SUMMARY:World Piano Day Concet - A Journey through Europe
END:VEVENT
BEGIN:VEVENT
UID:pretix-piano-schulz-Patrick-Kutscha-0@tickets.piano-schulz.de
DTSTART;TZID=Europe/Berlin:20260613T193000
DTEND;TZID=Europe/Berlin:20260613T220000
DESCRIPTION:Tickets: https://tickets.piano-schulz.de/Patrick-Kutscha/\nOrga
 nizer: Piano-Schulz e.K.
DTSTAMP:20260421T085613Z
LOCATION:Piano-Schulz e.K.\, Mühlgasse 11-13\, 65183 Wiesbaden
SUMMARY:Sounds at Sunset - Open Air Concert with Patrick Kutscha
END:VEVENT
END:VCALENDAR
