BEGIN:VCALENDAR
VERSION:2.0
PRODID:-//pretix//pretix.eu//
BEGIN:VTIMEZONE
TZID:Europe/Berlin
BEGIN:STANDARD
DTSTART:20001029T040000
RRULE:FREQ=YEARLY;BYDAY=-1SU;BYMONTH=10
TZNAME:CET
TZOFFSETFROM:+0200
TZOFFSETTO:+0100
END:STANDARD
BEGIN:DAYLIGHT
DTSTART:20000326T030000
RRULE:FREQ=YEARLY;BYDAY=-1SU;BYMONTH=3
TZNAME:CEST
TZOFFSETFROM:+0100
TZOFFSETTO:+0200
END:DAYLIGHT
END:VTIMEZONE
BEGIN:VEVENT
UID:pretix-piano-schulz-falbanese-0@tickets.piano-schulz.de
DTSTART;TZID=Europe/Berlin:20251019T180000
DTEND;TZID=Europe/Berlin:20251019T210000
DESCRIPTION:Tickets: https://tickets.piano-schulz.de/falbanese/\nVeranstalt
 er: Piano-Schulz e.K.
DTSTAMP:20260421T112705Z
LOCATION:Piano-Schulz e.K.\, Mühlgasse 11-13\, 65183 Wiesbaden
SUMMARY:FEDERICO ALBANESE - BLACKBIRDS AND THE SUN OF OCTOBER
END:VEVENT
END:VCALENDAR
