BEGIN:VCALENDAR
VERSION:2.0
PRODID:-//pretix//pretix.eu//
BEGIN:VTIMEZONE
TZID:Europe/Berlin
BEGIN:STANDARD
DTSTART:20001029T040000
RRULE:FREQ=YEARLY;BYDAY=-1SU;BYMONTH=10
TZNAME:CET
TZOFFSETFROM:+0200
TZOFFSETTO:+0100
END:STANDARD
BEGIN:DAYLIGHT
DTSTART:20000326T030000
RRULE:FREQ=YEARLY;BYDAY=-1SU;BYMONTH=3
TZNAME:CEST
TZOFFSETFROM:+0100
TZOFFSETTO:+0200
END:DAYLIGHT
END:VTIMEZONE
BEGIN:VEVENT
UID:pretix-piano-schulz-glanz-groove-20s-0@tickets.piano-schulz.de
DTSTART;TZID=Europe/Berlin:20260214T190000
DTEND;TZID=Europe/Berlin:20260214T230000
DESCRIPTION:Tickets: https://tickets.piano-schulz.de/glanz-groove-20s/\nVer
 anstalter: Piano-Schulz e.K.
DTSTAMP:20260421T112848Z
LOCATION:Piano-Schulz e.K.\, Mühlgasse 11-13\, 65183 Wiesbaden
SUMMARY:Glanz & Groove - Die 20er zwischen Salon und Tanzfläche
END:VEVENT
END:VCALENDAR
